Package: BatchQC Version: 2.0.0 Command: /home/biocbuild/bbs-3.19-bioc/R/bin/R CMD build --keep-empty-dirs --no-resave-data BatchQC StartedAt: 2024-10-16 17:03:05 -0400 (Wed, 16 Oct 2024) EndedAt: 2024-10-16 17:04:09 -0400 (Wed, 16 Oct 2024) EllapsedTime: 64.1 seconds RetCode: 0 Status: OK PackageFile: BatchQC_2.0.0.tar.gz PackageFileSize: 3.456 MiB