Package: BasicSTARRseq Version: 1.32.0 Command: E:\biocbuild\bbs-3.19-bioc\R\bin\R.exe CMD INSTALL BasicSTARRseq StartedAt: 2024-10-16 16:22:34 -0400 (Wed, 16 Oct 2024) EndedAt: 2024-10-16 16:23:08 -0400 (Wed, 16 Oct 2024) EllapsedTime: 34.1 seconds RetCode: 0 Status: OK