Package: BasicSTARRseq Version: 1.32.0 Command: E:\biocbuild\bbs-3.19-bioc\R\bin\R.exe CMD check --no-multiarch --install=check:BasicSTARRseq.install-out.txt --library=E:\biocbuild\bbs-3.19-bioc\R\library --no-vignettes --timings BasicSTARRseq_1.32.0.tar.gz StartedAt: 2024-10-16 23:01:59 -0400 (Wed, 16 Oct 2024) EndedAt: 2024-10-16 23:05:09 -0400 (Wed, 16 Oct 2024) EllapsedTime: 190.0 seconds RetCode: 0 Status: OK CheckDir: BasicSTARRseq.Rcheck Warnings: 0