Package: BasicSTARRseq Version: 1.32.0 Command: rm -rf BasicSTARRseq.buildbin-libdir && mkdir BasicSTARRseq.buildbin-libdir && E:\biocbuild\bbs-3.19-bioc\R\bin\R.exe CMD INSTALL --build --library=BasicSTARRseq.buildbin-libdir BasicSTARRseq_1.32.0.tar.gz StartedAt: 2024-10-17 07:22:21 -0400 (Thu, 17 Oct 2024) EndedAt: 2024-10-17 07:23:06 -0400 (Thu, 17 Oct 2024) EllapsedTime: 45.3 seconds RetCode: 0 Status: OK PackageFile: BasicSTARRseq_1.32.0.zip PackageFileSize: 648.1 KiB