Package: BasicSTARRseq Version: 1.32.0 Command: rm -rf BasicSTARRseq.buildbin-libdir && mkdir BasicSTARRseq.buildbin-libdir && F:\biocbuild\bbs-3.19-bioc\R\bin\R.exe CMD INSTALL --build --library=BasicSTARRseq.buildbin-libdir BasicSTARRseq_1.32.0.tar.gz StartedAt: 2024-06-27 07:51:41 -0400 (Thu, 27 Jun 2024) EndedAt: 2024-06-27 07:52:17 -0400 (Thu, 27 Jun 2024) EllapsedTime: 35.7 seconds RetCode: 0 Status: OK PackageFile: BasicSTARRseq_1.32.0.zip PackageFileSize: 647 KiB