Package: BasicSTARRseq Version: 1.32.0 Command: /home/biocbuild/bbs-3.19-bioc/R/bin/R CMD INSTALL BasicSTARRseq StartedAt: 2024-10-16 16:02:58 -0400 (Wed, 16 Oct 2024) EndedAt: 2024-10-16 16:03:23 -0400 (Wed, 16 Oct 2024) EllapsedTime: 25.8 seconds RetCode: 0 Status: OK