Package: BasicSTARRseq Version: 1.32.0 Command: /home/biocbuild/bbs-3.19-bioc/R/bin/R CMD check --install=check:BasicSTARRseq.install-out.txt --library=/home/biocbuild/bbs-3.19-bioc/R/site-library --timings BasicSTARRseq_1.32.0.tar.gz StartedAt: 2024-10-16 21:49:44 -0400 (Wed, 16 Oct 2024) EndedAt: 2024-10-16 21:52:43 -0400 (Wed, 16 Oct 2024) EllapsedTime: 179.3 seconds RetCode: 0 Status: OK CheckDir: BasicSTARRseq.Rcheck Warnings: 0