Package: BasicSTARRseq Version: 1.32.0 Command: /home/biocbuild/bbs-3.19-bioc/R/bin/R CMD build --keep-empty-dirs --no-resave-data BasicSTARRseq StartedAt: 2024-10-16 17:02:40 -0400 (Wed, 16 Oct 2024) EndedAt: 2024-10-16 17:03:15 -0400 (Wed, 16 Oct 2024) EllapsedTime: 35.1 seconds RetCode: 0 Status: OK PackageFile: BasicSTARRseq_1.32.0.tar.gz PackageFileSize: 390.5 KiB