Package: BasicSTARRseq Version: 1.32.0 Command: /home/biocbuild/R/R-beta-2024-04-15_r86425/bin/R CMD build --keep-empty-dirs --no-resave-data BasicSTARRseq StartedAt: 2024-05-08 22:30:05 -0000 (Wed, 08 May 2024) EndedAt: 2024-05-08 22:30:52 -0000 (Wed, 08 May 2024) EllapsedTime: 47.1 seconds RetCode: 0 Status: OK PackageFile: BasicSTARRseq_1.32.0.tar.gz PackageFileSize: 544.6 KiB