Package: Basic4Cseq Version: 1.40.0 Command: E:\biocbuild\bbs-3.19-bioc\R\bin\R.exe CMD INSTALL Basic4Cseq StartedAt: 2024-10-16 16:31:45 -0400 (Wed, 16 Oct 2024) EndedAt: 2024-10-16 16:32:55 -0400 (Wed, 16 Oct 2024) EllapsedTime: 70.7 seconds RetCode: 0 Status: OK