Package: Basic4Cseq Version: 1.40.0 Command: chmod a+r Basic4Cseq -R && E:\biocbuild\bbs-3.19-bioc\R\bin\R.exe CMD build --keep-empty-dirs --no-resave-data Basic4Cseq StartedAt: 2024-10-16 17:40:10 -0400 (Wed, 16 Oct 2024) EndedAt: 2024-10-16 17:41:23 -0400 (Wed, 16 Oct 2024) EllapsedTime: 73.0 seconds RetCode: 0 Status: OK PackageFile: Basic4Cseq_1.40.0.tar.gz PackageFileSize: 384.7 KiB