Package: Basic4Cseq Version: 1.40.0 Command: F:\biocbuild\bbs-3.19-bioc\R\bin\R.exe CMD INSTALL Basic4Cseq StartedAt: 2024-06-26 16:12:04 -0400 (Wed, 26 Jun 2024) EndedAt: 2024-06-26 16:12:58 -0400 (Wed, 26 Jun 2024) EllapsedTime: 54.0 seconds RetCode: 0 Status: OK