Package: Basic4Cseq Version: 1.40.0 Command: chmod a+r Basic4Cseq -R && F:\biocbuild\bbs-3.19-bioc\R\bin\R.exe CMD build --keep-empty-dirs --no-resave-data Basic4Cseq StartedAt: 2024-06-26 17:13:45 -0400 (Wed, 26 Jun 2024) EndedAt: 2024-06-26 17:15:00 -0400 (Wed, 26 Jun 2024) EllapsedTime: 74.6 seconds RetCode: 0 Status: OK PackageFile: Basic4Cseq_1.40.0.tar.gz PackageFileSize: 384.7 KiB