Package: Basic4Cseq Version: 1.40.0 Command: /home/biocbuild/bbs-3.19-bioc/R/bin/R CMD INSTALL Basic4Cseq StartedAt: 2024-10-16 16:09:56 -0400 (Wed, 16 Oct 2024) EndedAt: 2024-10-16 16:10:30 -0400 (Wed, 16 Oct 2024) EllapsedTime: 34.4 seconds RetCode: 0 Status: OK