Package: Basic4Cseq Version: 1.40.0 Command: /home/biocbuild/bbs-3.19-bioc/R/bin/R CMD build --keep-empty-dirs --no-resave-data Basic4Cseq StartedAt: 2024-10-16 17:02:01 -0400 (Wed, 16 Oct 2024) EndedAt: 2024-10-16 17:02:52 -0400 (Wed, 16 Oct 2024) EllapsedTime: 51.1 seconds RetCode: 0 Status: OK PackageFile: Basic4Cseq_1.40.0.tar.gz PackageFileSize: 384.8 KiB