Package: Basic4Cseq Version: 1.40.0 Command: /Library/Frameworks/R.framework/Resources/bin/R CMD INSTALL Basic4Cseq StartedAt: 2024-10-16 15:40:42 -0400 (Wed, 16 Oct 2024) EndedAt: 2024-10-16 15:42:02 -0400 (Wed, 16 Oct 2024) EllapsedTime: 79.8 seconds RetCode: 0 Status: OK