Package: Basic4Cseq Version: 1.40.0 Command: /Library/Frameworks/R.framework/Resources/bin/R CMD check --install=check:Basic4Cseq.install-out.txt --library=/Library/Frameworks/R.framework/Resources/library --no-vignettes --timings Basic4Cseq_1.40.0.tar.gz StartedAt: 2024-10-17 01:22:10 -0400 (Thu, 17 Oct 2024) EndedAt: 2024-10-17 01:31:17 -0400 (Thu, 17 Oct 2024) EllapsedTime: 546.4 seconds RetCode: 0 Status: OK CheckDir: Basic4Cseq.Rcheck Warnings: 0