Package: Basic4Cseq Version: 1.40.0 Command: /Library/Frameworks/R.framework/Resources/bin/R CMD build --keep-empty-dirs --no-resave-data Basic4Cseq StartedAt: 2024-10-16 17:12:30 -0400 (Wed, 16 Oct 2024) EndedAt: 2024-10-16 17:14:37 -0400 (Wed, 16 Oct 2024) EllapsedTime: 127.3 seconds RetCode: 0 Status: OK PackageFile: Basic4Cseq_1.40.0.tar.gz PackageFileSize: 384.5 KiB