Package: Basic4Cseq Version: 1.40.0 Command: /home/biocbuild/R/R-beta-2024-04-15_r86425/bin/R CMD INSTALL Basic4Cseq StartedAt: 2024-05-08 20:30:53 -0000 (Wed, 08 May 2024) EndedAt: 2024-05-08 20:31:40 -0000 (Wed, 08 May 2024) EllapsedTime: 46.6 seconds RetCode: 0 Status: OK