Package: Basic4Cseq Version: 1.40.0 Command: rm -rf Basic4Cseq.buildbin-libdir && mkdir Basic4Cseq.buildbin-libdir && /Users/biocbuild/BBS/utils/build-universal.sh Basic4Cseq_1.40.0.tar.gz /Library/Frameworks/R.framework/Resources/bin/R Basic4Cseq.buildbin-libdir StartedAt: 2024-06-11 10:13:15 -0400 (Tue, 11 Jun 2024) EndedAt: 2024-06-11 10:14:31 -0400 (Tue, 11 Jun 2024) EllapsedTime: 75.8 seconds RetCode: 0 Status: OK PackageFile: Basic4Cseq_1.40.0.tgz PackageFileSize: 773.4 KiB