Package: Basic4Cseq Version: 1.40.0 Command: rm -rf Basic4Cseq.buildbin-libdir && mkdir Basic4Cseq.buildbin-libdir && /Users/biocbuild/BBS/utils/build-universal.sh Basic4Cseq_1.40.0.tar.gz /Library/Frameworks/R.framework/Resources/bin/R Basic4Cseq.buildbin-libdir StartedAt: 2024-10-18 17:23:15 -0400 (Fri, 18 Oct 2024) EndedAt: 2024-10-18 17:24:06 -0400 (Fri, 18 Oct 2024) EllapsedTime: 50.4 seconds RetCode: 0 Status: OK PackageFile: Basic4Cseq_1.40.0.tgz PackageFileSize: 768.6 KiB