Package: BaseSpaceR Version: 1.48.0 Command: chmod a+r BaseSpaceR -R && F:\biocbuild\bbs-3.19-bioc\R\bin\R.exe CMD build --keep-empty-dirs --no-resave-data BaseSpaceR StartedAt: 2024-06-26 17:13:43 -0400 (Wed, 26 Jun 2024) EndedAt: 2024-06-26 17:14:16 -0400 (Wed, 26 Jun 2024) EllapsedTime: 33.0 seconds RetCode: 0 Status: OK PackageFile: BaseSpaceR_1.48.0.tar.gz PackageFileSize: 426.1 KiB