Package: BaseSpaceR Version: 1.48.0 Command: /home/biocbuild/bbs-3.19-bioc/R/bin/R CMD INSTALL BaseSpaceR StartedAt: 2024-10-16 15:51:09 -0400 (Wed, 16 Oct 2024) EndedAt: 2024-10-16 15:51:17 -0400 (Wed, 16 Oct 2024) EllapsedTime: 8.5 seconds RetCode: 0 Status: OK