Package: BaseSpaceR Version: 1.48.0 Command: rm -rf BaseSpaceR.buildbin-libdir && mkdir BaseSpaceR.buildbin-libdir && /Users/biocbuild/BBS/utils/build-universal.sh BaseSpaceR_1.48.0.tar.gz /Library/Frameworks/R.framework/Resources/bin/R BaseSpaceR.buildbin-libdir StartedAt: 2024-10-18 17:23:07 -0400 (Fri, 18 Oct 2024) EndedAt: 2024-10-18 17:23:17 -0400 (Fri, 18 Oct 2024) EllapsedTime: 9.1 seconds RetCode: 0 Status: OK PackageFile: BaseSpaceR_1.48.0.tgz PackageFileSize: 751.7 KiB