Package: Banksy Version: 1.0.0 Command: F:\biocbuild\bbs-3.19-bioc\R\bin\R.exe CMD INSTALL Banksy StartedAt: 2024-06-26 15:57:38 -0400 (Wed, 26 Jun 2024) EndedAt: 2024-06-26 15:58:14 -0400 (Wed, 26 Jun 2024) EllapsedTime: 36.5 seconds RetCode: 0 Status: OK