Package: Banksy Version: 1.0.0 Command: /home/biocbuild/bbs-3.19-bioc/R/bin/R CMD check --install=check:Banksy.install-out.txt --library=/home/biocbuild/bbs-3.19-bioc/R/site-library --timings Banksy_1.0.0.tar.gz StartedAt: 2024-10-09 20:46:35 -0400 (Wed, 09 Oct 2024) EndedAt: 2024-10-09 20:57:47 -0400 (Wed, 09 Oct 2024) EllapsedTime: 672.1 seconds RetCode: 0 Status: OK CheckDir: Banksy.Rcheck Warnings: 0