Package: Banksy Version: 1.0.0 Command: /home/biocbuild/bbs-3.19-bioc/R/bin/R CMD build --keep-empty-dirs --no-resave-data Banksy StartedAt: 2024-10-16 17:00:55 -0400 (Wed, 16 Oct 2024) EndedAt: 2024-10-16 17:40:55 -0400 (Wed, 16 Oct 2024) EllapsedTime: 2400.9 seconds RetCode: None Status: TIMEOUT PackageFile: None PackageFileSize: NA