Package: Banksy Version: 1.0.0 Command: /Library/Frameworks/R.framework/Resources/bin/R CMD INSTALL Banksy StartedAt: 2024-10-16 15:46:05 -0400 (Wed, 16 Oct 2024) EndedAt: 2024-10-16 15:47:05 -0400 (Wed, 16 Oct 2024) EllapsedTime: 59.8 seconds RetCode: 0 Status: OK