Package: BadRegionFinder Version: 1.32.0 Command: E:\biocbuild\bbs-3.19-bioc\R\bin\R.exe CMD INSTALL BadRegionFinder StartedAt: 2024-10-16 16:37:56 -0400 (Wed, 16 Oct 2024) EndedAt: 2024-10-16 16:38:49 -0400 (Wed, 16 Oct 2024) EllapsedTime: 53.6 seconds RetCode: 0 Status: OK