Package: BadRegionFinder Version: 1.32.0 Command: /home/biocbuild/bbs-3.19-bioc/R/bin/R CMD check --install=check:BadRegionFinder.install-out.txt --library=/home/biocbuild/bbs-3.19-bioc/R/site-library --timings BadRegionFinder_1.32.0.tar.gz StartedAt: 2024-10-16 21:45:38 -0400 (Wed, 16 Oct 2024) EndedAt: 2024-10-16 21:50:54 -0400 (Wed, 16 Oct 2024) EllapsedTime: 316.6 seconds RetCode: 0 Status: OK CheckDir: BadRegionFinder.Rcheck Warnings: 0