Package: BadRegionFinder Version: 1.32.0 Command: rm -rf BadRegionFinder.buildbin-libdir && mkdir BadRegionFinder.buildbin-libdir && /Users/biocbuild/BBS/utils/build-universal.sh BadRegionFinder_1.32.0.tar.gz /Library/Frameworks/R.framework/Resources/bin/R BadRegionFinder.buildbin-libdir StartedAt: 2024-10-17 15:39:28 -0400 (Thu, 17 Oct 2024) EndedAt: 2024-10-17 15:41:04 -0400 (Thu, 17 Oct 2024) EllapsedTime: 96.1 seconds RetCode: 0 Status: OK PackageFile: BadRegionFinder_1.32.0.tgz PackageFileSize: 927.4 KiB