Package: BadRegionFinder Version: 1.32.0 Command: /home/biocbuild/R/R-beta-2024-04-15_r86425/bin/R CMD build --keep-empty-dirs --no-resave-data BadRegionFinder StartedAt: 2024-05-08 22:26:54 -0000 (Wed, 08 May 2024) EndedAt: 2024-05-08 22:28:43 -0000 (Wed, 08 May 2024) EllapsedTime: 108.1 seconds RetCode: 0 Status: OK PackageFile: BadRegionFinder_1.32.0.tar.gz PackageFileSize: 824.4 KiB