Package: BadRegionFinder Version: 1.32.0 Command: /Library/Frameworks/R.framework/Resources/bin/R CMD build --keep-empty-dirs --no-resave-data BadRegionFinder StartedAt: 2024-10-16 19:43:27 -0400 (Wed, 16 Oct 2024) EndedAt: 2024-10-16 19:45:01 -0400 (Wed, 16 Oct 2024) EllapsedTime: 94.1 seconds RetCode: 0 Status: OK PackageFile: BadRegionFinder_1.32.0.tar.gz PackageFileSize: 833.4 KiB