Package: BaalChIP Version: 1.30.0 Command: rm -rf BaalChIP.buildbin-libdir && mkdir BaalChIP.buildbin-libdir && E:\biocbuild\bbs-3.19-bioc\R\bin\R.exe CMD INSTALL --build --library=BaalChIP.buildbin-libdir BaalChIP_1.30.0.tar.gz StartedAt: 2024-10-17 07:21:30 -0400 (Thu, 17 Oct 2024) EndedAt: 2024-10-17 07:23:08 -0400 (Thu, 17 Oct 2024) EllapsedTime: 98.1 seconds RetCode: 0 Status: OK PackageFile: BaalChIP_1.30.0.zip PackageFileSize: 99.46 MiB