Package: BaalChIP Version: 1.30.0 Command: /home/biocbuild/bbs-3.19-bioc/R/bin/R CMD INSTALL BaalChIP StartedAt: 2024-10-16 16:02:50 -0400 (Wed, 16 Oct 2024) EndedAt: 2024-10-16 16:03:54 -0400 (Wed, 16 Oct 2024) EllapsedTime: 63.4 seconds RetCode: 0 Status: OK