Package: BaalChIP Version: 1.30.0 Command: /home/biocbuild/bbs-3.19-bioc/R/bin/R CMD check --install=check:BaalChIP.install-out.txt --library=/home/biocbuild/bbs-3.19-bioc/R/site-library --timings BaalChIP_1.30.0.tar.gz StartedAt: 2024-10-16 21:44:28 -0400 (Wed, 16 Oct 2024) EndedAt: 2024-10-16 21:54:24 -0400 (Wed, 16 Oct 2024) EllapsedTime: 595.0 seconds RetCode: 0 Status: WARNINGS CheckDir: BaalChIP.Rcheck Warnings: 1