Package: BaalChIP Version: 1.30.0 Command: rm -rf BaalChIP.buildbin-libdir && mkdir BaalChIP.buildbin-libdir && /Users/biocbuild/BBS/utils/build-universal.sh BaalChIP_1.30.0.tar.gz /Library/Frameworks/R.framework/Resources/bin/R BaalChIP.buildbin-libdir StartedAt: 2024-06-10 00:07:03 -0400 (Mon, 10 Jun 2024) EndedAt: 2024-06-10 00:09:01 -0400 (Mon, 10 Jun 2024) EllapsedTime: 117.4 seconds RetCode: 0 Status: OK PackageFile: BaalChIP_1.30.0.tgz PackageFileSize: 107.2 MiB