Package: BaalChIP Version: 1.30.0 Command: /Library/Frameworks/R.framework/Resources/bin/R CMD check --install=check:BaalChIP.install-out.txt --library=/Library/Frameworks/R.framework/Resources/library --no-vignettes --timings BaalChIP_1.30.0.tar.gz StartedAt: 2024-06-10 07:49:47 -0400 (Mon, 10 Jun 2024) EndedAt: 2024-06-10 08:03:50 -0400 (Mon, 10 Jun 2024) EllapsedTime: 842.3 seconds RetCode: 0 Status: WARNINGS CheckDir: BaalChIP.Rcheck Warnings: 1