Package: BaalChIP Version: 1.30.0 Command: /Library/Frameworks/R.framework/Resources/bin/R CMD build --keep-empty-dirs --no-resave-data BaalChIP StartedAt: 2024-06-09 18:14:34 -0400 (Sun, 09 Jun 2024) EndedAt: 2024-06-09 18:17:14 -0400 (Sun, 09 Jun 2024) EllapsedTime: 160.0 seconds RetCode: 0 Status: OK PackageFile: BaalChIP_1.30.0.tar.gz PackageFileSize: 45.32 MiB