Package: BaalChIP Version: 1.30.0 Command: rm -rf BaalChIP.buildbin-libdir && mkdir BaalChIP.buildbin-libdir && /Users/biocbuild/BBS/utils/build-universal.sh BaalChIP_1.30.0.tar.gz /Library/Frameworks/R.framework/Resources/bin/R BaalChIP.buildbin-libdir StartedAt: 2024-06-11 10:11:35 -0400 (Tue, 11 Jun 2024) EndedAt: 2024-06-11 10:14:14 -0400 (Tue, 11 Jun 2024) EllapsedTime: 158.6 seconds RetCode: 0 Status: OK PackageFile: BaalChIP_1.30.0.tgz PackageFileSize: 107.2 MiB