Package: BaalChIP Version: 1.30.0 Command: /Library/Frameworks/R.framework/Resources/bin/R CMD INSTALL BaalChIP StartedAt: 2024-10-16 16:24:59 -0400 (Wed, 16 Oct 2024) EndedAt: 2024-10-16 16:26:50 -0400 (Wed, 16 Oct 2024) EllapsedTime: 111.0 seconds RetCode: 0 Status: OK