Package: BUSseq Version: 1.10.0 Command: chmod a+r BUSseq -R && E:\biocbuild\bbs-3.19-bioc\R\bin\R.exe CMD build --keep-empty-dirs --no-resave-data BUSseq StartedAt: 2024-10-16 17:59:43 -0400 (Wed, 16 Oct 2024) EndedAt: 2024-10-16 18:03:32 -0400 (Wed, 16 Oct 2024) EllapsedTime: 228.8 seconds RetCode: 0 Status: OK PackageFile: BUSseq_1.10.0.tar.gz PackageFileSize: 914.5 KiB