Package: BUSseq Version: 1.10.0 Command: F:\biocbuild\bbs-3.19-bioc\R\bin\R.exe CMD check --no-multiarch --install=check:BUSseq.install-out.txt --library=F:\biocbuild\bbs-3.19-bioc\R\library --no-vignettes --timings BUSseq_1.10.0.tar.gz StartedAt: 2024-06-26 23:41:34 -0400 (Wed, 26 Jun 2024) EndedAt: 2024-06-26 23:49:12 -0400 (Wed, 26 Jun 2024) EllapsedTime: 458.2 seconds RetCode: 0 Status: OK CheckDir: BUSseq.Rcheck Warnings: 0