Package: BUSseq Version: 1.10.0 Command: chmod a+r BUSseq -R && F:\biocbuild\bbs-3.19-bioc\R\bin\R.exe CMD build --keep-empty-dirs --no-resave-data BUSseq StartedAt: 2024-06-26 17:34:41 -0400 (Wed, 26 Jun 2024) EndedAt: 2024-06-26 17:39:53 -0400 (Wed, 26 Jun 2024) EllapsedTime: 312.1 seconds RetCode: 0 Status: OK PackageFile: BUSseq_1.10.0.tar.gz PackageFileSize: 914.2 KiB