Package: BUSseq Version: 1.10.0 Command: /home/biocbuild/bbs-3.19-bioc/R/bin/R CMD check --install=check:BUSseq.install-out.txt --library=/home/biocbuild/bbs-3.19-bioc/R/site-library --timings BUSseq_1.10.0.tar.gz StartedAt: 2024-10-16 22:22:35 -0400 (Wed, 16 Oct 2024) EndedAt: 2024-10-16 22:26:07 -0400 (Wed, 16 Oct 2024) EllapsedTime: 211.4 seconds RetCode: 0 Status: OK CheckDir: BUSseq.Rcheck Warnings: 0