Package: BUSseq Version: 1.10.0 Command: /Library/Frameworks/R.framework/Resources/bin/R CMD build --keep-empty-dirs --no-resave-data BUSseq StartedAt: 2024-10-16 17:39:09 -0400 (Wed, 16 Oct 2024) EndedAt: 2024-10-16 17:41:49 -0400 (Wed, 16 Oct 2024) EllapsedTime: 160.5 seconds RetCode: 0 Status: OK PackageFile: BUSseq_1.10.0.tar.gz PackageFileSize: 978.2 KiB