Package: BUSseq Version: 1.10.0 Command: rm -rf BUSseq.buildbin-libdir && mkdir BUSseq.buildbin-libdir && /Users/biocbuild/BBS/utils/build-universal.sh BUSseq_1.10.0.tar.gz /Library/Frameworks/R.framework/Resources/bin/R BUSseq.buildbin-libdir StartedAt: 2024-10-17 15:46:07 -0400 (Thu, 17 Oct 2024) EndedAt: 2024-10-17 15:47:14 -0400 (Thu, 17 Oct 2024) EllapsedTime: 67.0 seconds RetCode: 0 Status: OK PackageFile: BUSseq_1.10.0.tgz PackageFileSize: 964.2 KiB