Package: BUSseq Version: 1.10.0 Command: /Library/Frameworks/R.framework/Resources/bin/R CMD build --keep-empty-dirs --no-resave-data BUSseq StartedAt: 2024-06-09 16:04:00 -0400 (Sun, 09 Jun 2024) EndedAt: 2024-06-09 16:05:07 -0400 (Sun, 09 Jun 2024) EllapsedTime: 66.5 seconds RetCode: 1 Status: ERROR PackageFile: None PackageFileSize: NA