Package: BUSseq Version: 1.10.0 Command: rm -rf BUSseq.buildbin-libdir && mkdir BUSseq.buildbin-libdir && /Users/biocbuild/BBS/utils/build-universal.sh BUSseq_1.10.0.tar.gz /Library/Frameworks/R.framework/Resources/bin/R BUSseq.buildbin-libdir StartedAt: 2024-05-27 01:26:55 -0400 (Mon, 27 May 2024) EndedAt: 2024-05-27 01:27:35 -0400 (Mon, 27 May 2024) EllapsedTime: 40.1 seconds RetCode: 0 Status: OK PackageFile: BUSseq_1.10.0.tgz PackageFileSize: 963.2 KiB