Package: BUSseq Version: 1.10.0 Command: /home/biocbuild/R/R-beta-2024-04-15_r86425/bin/R CMD build --keep-empty-dirs --no-resave-data BUSseq StartedAt: 2024-05-08 22:59:56 -0000 (Wed, 08 May 2024) EndedAt: 2024-05-08 23:01:13 -0000 (Wed, 08 May 2024) EllapsedTime: 77.1 seconds RetCode: 0 Status: OK PackageFile: BUSseq_1.10.0.tar.gz PackageFileSize: 1.036 MiB